BEGIN:VCALENDAR
VERSION:2.0
PRODID:-//CGE-EMB - ECPv5.14.0.1//NONSGML v1.0//EN
CALSCALE:GREGORIAN
METHOD:PUBLISH
X-ORIGINAL-URL:https://emergingmanagers.ca
X-WR-CALDESC:Events for CGE-EMB
REFRESH-INTERVAL;VALUE=DURATION:PT1H
X-Robots-Tag:noindex
X-PUBLISHED-TTL:PT1H
BEGIN:VTIMEZONE
TZID:America/Toronto
BEGIN:DAYLIGHT
TZOFFSETFROM:-0500
TZOFFSETTO:-0400
TZNAME:EDT
DTSTART:20200308T070000
END:DAYLIGHT
BEGIN:STANDARD
TZOFFSETFROM:-0400
TZOFFSETTO:-0500
TZNAME:EST
DTSTART:20201101T060000
END:STANDARD
BEGIN:DAYLIGHT
TZOFFSETFROM:-0500
TZOFFSETTO:-0400
TZNAME:EDT
DTSTART:20210314T070000
END:DAYLIGHT
BEGIN:STANDARD
TZOFFSETFROM:-0400
TZOFFSETTO:-0500
TZNAME:EST
DTSTART:20211107T060000
END:STANDARD
BEGIN:DAYLIGHT
TZOFFSETFROM:-0500
TZOFFSETTO:-0400
TZNAME:EDT
DTSTART:20220313T070000
END:DAYLIGHT
BEGIN:STANDARD
TZOFFSETFROM:-0400
TZOFFSETTO:-0500
TZNAME:EST
DTSTART:20221106T060000
END:STANDARD
BEGIN:DAYLIGHT
TZOFFSETFROM:-0500
TZOFFSETTO:-0400
TZNAME:EDT
DTSTART:20230312T070000
END:DAYLIGHT
BEGIN:STANDARD
TZOFFSETFROM:-0400
TZOFFSETTO:-0500
TZNAME:EST
DTSTART:20231105T060000
END:STANDARD
BEGIN:DAYLIGHT
TZOFFSETFROM:-0500
TZOFFSETTO:-0400
TZNAME:EDT
DTSTART:20240310T070000
END:DAYLIGHT
BEGIN:STANDARD
TZOFFSETFROM:-0400
TZOFFSETTO:-0500
TZNAME:EST
DTSTART:20241103T060000
END:STANDARD
BEGIN:DAYLIGHT
TZOFFSETFROM:-0500
TZOFFSETTO:-0400
TZNAME:EDT
DTSTART:20250309T070000
END:DAYLIGHT
BEGIN:STANDARD
TZOFFSETFROM:-0400
TZOFFSETTO:-0500
TZNAME:EST
DTSTART:20251102T060000
END:STANDARD
BEGIN:DAYLIGHT
TZOFFSETFROM:-0500
TZOFFSETTO:-0400
TZNAME:EDT
DTSTART:20260308T070000
END:DAYLIGHT
BEGIN:STANDARD
TZOFFSETFROM:-0400
TZOFFSETTO:-0500
TZNAME:EST
DTSTART:20261101T060000
END:STANDARD
END:VTIMEZONE
BEGIN:VEVENT
DTSTART;TZID=America/Toronto:20260210T100000
DTEND;TZID=America/Toronto:20260210T130000
DTSTAMP:20260424T160435
CREATED:20260109T211138Z
LAST-MODIFIED:20260109T211138Z
UID:31677-1770717600-1770728400@emergingmanagers.ca
SUMMARY:2026 TRS/ERS Emerging Manager Conference
DESCRIPTION:The Teacher Retirement System of Texas (TRS) and Employees Retirement System of Texas (ERS) will host the 21st annual Emerging Manager Conference. Due to the high number of participants\, the Emerging Manager Conference will be brought to you virtually for 2026. TRS and ERS are globally recognized institutional asset managers with combined assets under management of more than $240 billion. Combined\, the retirement systems manage the investments of over 2.4 million members. \nOn Tuesday\, February 10\, 2026 the virtual conference will go live. The conference will showcase the 7th annual Allocator Hall\, giving GPs select access to asset allocators. Additionally\, the virtual medium gives attendees 30 days to access content on demand. \nTRS and ERS are expecting emerging managers from across all asset classes along with public and corporate pensions\, endowments and foundations\, asset allocators\, and consultants. The objective of the conference is to provide a space for small and emerging managers to connect with a broad set of asset allocators\, while also sharing industry – leading insights and best practices. Join us for this unique experience to build connections and learn from fellow attendees! \nREGISTER HERE
URL:https://emergingmanagers.ca/calendar-event/2026-trs-ers-emerging-manager-conference/
ATTACH;FMTTYPE=image/png:https://emergingmanagers.ca/wp-content/uploads/2026/01/2026-TRSERS-Emerging-Manager-Conference.png
ORGANIZER;CN="Teacher%20Retirement%20System%20of%20Texas":MAILTO:comments@trs.texas.gov
BEGIN:VALARM
TRIGGER:-PT15M
ACTION:DISPLAY
END:VALARM
END:VEVENT
BEGIN:VEVENT
DTSTART;TZID=America/Toronto:20240228T080000
DTEND;TZID=America/Toronto:20240228T170000
DTSTAMP:20260424T160435
CREATED:20231211T203026Z
LAST-MODIFIED:20231211T203208Z
UID:27928-1709107200-1709139600@emergingmanagers.ca
SUMMARY:TRS/ERS Emerging Manager Conference
DESCRIPTION:Mark your calendars for the TRS/ERS Emerging Manager Conference\nset for Wednesday\, February 28\, 2024. \nThe event will be virtual. \nThe Teacher Retirement of Texas (TRS) and Employees Retirement System of Texas (ERS) will host the 19th annual Emerging Manager Conference. Traditionally hosted in Austin\, TX\, the Emerging Manager Conference will be brought to you virtually for 2024. TRS and ERS are globally recognized institutional asset managers with combined assets under management of more than $230 billion.
URL:https://emergingmanagers.ca/calendar-event/trs-ers-emerging-manager-conference/
ATTACH;FMTTYPE=image/png:https://emergingmanagers.ca/wp-content/uploads/2023/12/TRS-ERS-Conference-1280x850-1.png
ORGANIZER;CN="Teacher%20Retirement%20System%20of%20Texas":MAILTO:comments@trs.texas.gov
BEGIN:VALARM
TRIGGER:-PT15M
ACTION:DISPLAY
END:VALARM
END:VEVENT
BEGIN:VEVENT
DTSTART;TZID=America/Toronto:20200226T080000
DTEND;TZID=America/Toronto:20200226T170000
DTSTAMP:20260424T160435
CREATED:20191207T163514Z
LAST-MODIFIED:20220117T214615Z
UID:12464-1582704000-1582736400@emergingmanagers.ca
SUMMARY:2020 Emerging Manager Conference-Texas
DESCRIPTION:The Teacher Retirement System of Texas and Employees Retirement System of Texas welcome you to the 2020 Emerging Manager Conference in Austin\, Texas.\nThe conference will take place on Wednesday\, Feb. 26. \nWhat to Expect\nThe TRS and ERS Emerging Manager Conference is a great way for investors to meet\, network and learn from small and diverse Emerging Managers. Research suggests that Emerging Managers are out-performing some of their larger counterparts\, making them a great contender for allocation from pension plans as well as for family offices\, endowments and other institutional investors. Emerging Managers will not only have the opportunity to network with institutional investors\, they will also learn how to meet the challenge of working with institutional investors\, as well as gain industry leading insights and best practices. \nWhereAustin Convention Center500 E Cesar Chavez\, Austin\, Texas 78701\nregister here
URL:https://emergingmanagers.ca/calendar-event/2020-emerging-manager-conference-texas/
LOCATION:Austin Convention Center 500 E Cesar Chavez\, Austin\, Texas 78701\, Austin Convention Center 500 E Cesar Chavez\, Austin\, TX\, 78701\, United States
CATEGORIES:Other
ORGANIZER;CN="Teacher%20Retirement%20System%20of%20Texas":MAILTO:comments@trs.texas.gov
BEGIN:VALARM
TRIGGER:-PT15M
ACTION:DISPLAY
END:VALARM
END:VEVENT
END:VCALENDAR