BEGIN:VCALENDAR
VERSION:2.0
PRODID:-//CGE-EMB - ECPv5.14.0.1//NONSGML v1.0//EN
CALSCALE:GREGORIAN
METHOD:PUBLISH
X-ORIGINAL-URL:https://emergingmanagers.ca/fr/
X-WR-CALDESC:Events for CGE-EMB
REFRESH-INTERVAL;VALUE=DURATION:PT1H
X-Robots-Tag:noindex
X-PUBLISHED-TTL:PT1H
BEGIN:VTIMEZONE
TZID:America/Toronto
BEGIN:DAYLIGHT
TZOFFSETFROM:-0500
TZOFFSETTO:-0400
TZNAME:EDT
DTSTART:20230312T070000
END:DAYLIGHT
BEGIN:STANDARD
TZOFFSETFROM:-0400
TZOFFSETTO:-0500
TZNAME:EST
DTSTART:20231105T060000
END:STANDARD
END:VTIMEZONE
BEGIN:VEVENT
DTSTART;TZID=America/Toronto:20231114T080000
DTEND;TZID=America/Toronto:20231114T180000
DTSTAMP:20260421T091213
CREATED:20230929T150058Z
LAST-MODIFIED:20230929T150623Z
UID:27081-1699948800-1699984800@emergingmanagers.ca
SUMMARY:PMAC Conférence Nationale 2023
DESCRIPTION:La conférence nationale est l’événement le plus attendu de l’année pour PMAC. L’ordre du jour comprendra une brochette exceptionnelle de leaders de renommée mondiale qui aborderont les principaux enjeux mondiaux et les sujets d’actualité ayant une incidence sur tous les professionnels du secteur.
URL:https://emergingmanagers.ca/fr/calendar-event/pmac-conference-nationale-2023/
LOCATION:Fairmont Royal York Hotel\, 100 Front St W\, Toronto\, Ontario\, Canada
ATTACH;FMTTYPE=image/jpeg:https://emergingmanagers.ca/wp-content/uploads/2023/09/PMAC-national-conference-1250x850-1.jpg
BEGIN:VALARM
TRIGGER:-PT15M
ACTION:DISPLAY
END:VALARM
END:VEVENT
END:VCALENDAR