BEGIN:VCALENDAR
VERSION:2.0
PRODID:-//CGE-EMB - ECPv5.14.0.1//NONSGML v1.0//EN
CALSCALE:GREGORIAN
METHOD:PUBLISH
X-ORIGINAL-URL:https://emergingmanagers.ca/fr/
X-WR-CALDESC:Events for CGE-EMB
REFRESH-INTERVAL;VALUE=DURATION:PT1H
X-Robots-Tag:noindex
X-PUBLISHED-TTL:PT1H
BEGIN:VTIMEZONE
TZID:America/Toronto
BEGIN:DAYLIGHT
TZOFFSETFROM:-0500
TZOFFSETTO:-0400
TZNAME:EDT
DTSTART:20220313T070000
END:DAYLIGHT
BEGIN:STANDARD
TZOFFSETFROM:-0400
TZOFFSETTO:-0500
TZNAME:EST
DTSTART:20221106T060000
END:STANDARD
END:VTIMEZONE
BEGIN:VEVENT
DTSTART;TZID=America/Toronto:20220429T110000
DTEND;TZID=America/Toronto:20220429T120000
DTSTAMP:20260422T134405
CREATED:20220425T124651Z
LAST-MODIFIED:20220425T124653Z
UID:22807-1651230000-1651233600@emergingmanagers.ca
SUMMARY:Améliorez votre stratégie de marque pour augmenter et fidéliser vos clients
DESCRIPTION:Un événement conjoint avec AIMA Canada \n\n\n\nLorsqu’elles sont bien faites\, l’image de marque d’une entreprise suscite la confiance\, la fidélité et les recommandations de leurs clients\, ce qui augmente les profits et réduit les coûts d’acquisition de nouveaux clients. Joignez-vous à nous pour découvrir le pouvoir des stratégies de marque\, les énoncés de positionnement et les propositions de valeur de votre entreprise et comment vous pouvez améliorer la perception de votre marque sur le marché grâce aux histoires.Ce séminaire\, animé par Peter Drummond\, cofondateur de PSD+G Strategy Group\, abordera les sujets suivants :Comment penser à votre marque du point de vue du client \n\n\n\nComment construire les composants clés de votre stratégie de marque \n\n\n\nComment simplifier les messages de votre marque et les adapter aux différents publics \n\n\n\nComment améliorer les déclarations de positionnement de votre marque et inspirer les clients avec des histoires. \n\n\n\nÉvénement en anglais seulement  \n\n\n\nINSCRIPTION
URL:https://emergingmanagers.ca/fr/calendar-event/ameliorez-votre-strategie-de-marque-pour-augmenter-et-fideliser-vos-clients/
LOCATION:Quebec
BEGIN:VALARM
TRIGGER:-PT15M
ACTION:DISPLAY
END:VALARM
END:VEVENT
END:VCALENDAR