BEGIN:VCALENDAR
VERSION:2.0
PRODID:-//CGE-EMB - ECPv5.14.0.1//NONSGML v1.0//EN
CALSCALE:GREGORIAN
METHOD:PUBLISH
X-ORIGINAL-URL:https://emergingmanagers.ca/fr/
X-WR-CALDESC:Events for CGE-EMB
REFRESH-INTERVAL;VALUE=DURATION:PT1H
X-Robots-Tag:noindex
X-PUBLISHED-TTL:PT1H
BEGIN:VTIMEZONE
TZID:America/Toronto
BEGIN:DAYLIGHT
TZOFFSETFROM:-0500
TZOFFSETTO:-0400
TZNAME:EDT
DTSTART:20220313T070000
END:DAYLIGHT
BEGIN:STANDARD
TZOFFSETFROM:-0400
TZOFFSETTO:-0500
TZNAME:EST
DTSTART:20221106T060000
END:STANDARD
END:VTIMEZONE
BEGIN:VEVENT
DTSTART;TZID=America/Toronto:20220323T120000
DTEND;TZID=America/Toronto:20220323T130000
DTSTAMP:20260422T184712
CREATED:20220218T220708Z
LAST-MODIFIED:20220318T180803Z
UID:22415-1648036800-1648040400@emergingmanagers.ca
SUMMARY:ESG et l'investissement durable: les meilleures pratiques
DESCRIPTION:Événement en anglais \n\n\n\nHoraire \n\n\n\n12:00-12:05 – Ouverture de la session \n\n\n\n12:05-12:30 -Présentation de notre conférencier invité : \n\n\nAmr Addas\, MBA \nConsultant en investissement durable et professeur adjoint\, Université Concordia \n\n\n12:30-12:50 – Séances de discussions en groupes de 6 à 10 personnes. \n\n\n\n12:50-13:00 – Récapitulation et débriefing.
URL:https://emergingmanagers.ca/fr/calendar-event/e-s-g-et-linvestissement-durable-les-meilleures-pratiques/
LOCATION:Quebec
BEGIN:VALARM
TRIGGER:-PT15M
ACTION:DISPLAY
END:VALARM
END:VEVENT
END:VCALENDAR