BEGIN:VCALENDAR
VERSION:2.0
PRODID:-//CGE-EMB - ECPv5.14.0.1//NONSGML v1.0//EN
CALSCALE:GREGORIAN
METHOD:PUBLISH
X-ORIGINAL-URL:https://emergingmanagers.ca/fr/
X-WR-CALDESC:Events for CGE-EMB
REFRESH-INTERVAL;VALUE=DURATION:PT1H
X-Robots-Tag:noindex
X-PUBLISHED-TTL:PT1H
BEGIN:VTIMEZONE
TZID:America/Toronto
BEGIN:DAYLIGHT
TZOFFSETFROM:-0500
TZOFFSETTO:-0400
TZNAME:EDT
DTSTART:20230312T070000
END:DAYLIGHT
BEGIN:STANDARD
TZOFFSETFROM:-0400
TZOFFSETTO:-0500
TZNAME:EST
DTSTART:20231105T060000
END:STANDARD
END:VTIMEZONE
BEGIN:VEVENT
DTSTART;TZID=America/Toronto:20230906T170000
DTEND;TZID=America/Toronto:20230906T193000
DTSTAMP:20260421T055604
CREATED:20230525T160508Z
LAST-MODIFIED:20230831T155602Z
UID:25291-1694019600-1694028600@emergingmanagers.ca
SUMMARY:Les défis de la cybersécurité
DESCRIPTION:Reporter\nÉchanger des idées avec des pairs et des experts en sécurité\, acquérir des connaissances pour renforcer la protection des actifs financiers et maintenir la confiance des clients. \nAgenda\n\n\n  Introduction et mise en contexte pour les membres du CGE\n  Présentations par CGI sur les menaces et les meilleures pratiques en cybersécurité\n  Études de cas sur des cyberattaques récentes et leurs impacts financiers\n  Table ronde avec des diverses parties prenantes du milieu\n\n\nPanélistes:\n\n\nCarl Dussault\, Evovest\nMaxime Kimption\, Innocap\nMatthew Pollock\, BNRI\nPriscilla Kosseim\, CGI Cybersécurité\nGuillaume Bort\, CGI Business Consulting\nStéphane Gagné\, CGI Global Wealth and Capital Markets\n\n\n\n\n\n\n\n\n\n\n\n\n\n\n\n\nDate et Heure: 6 Septembre à 17h00 \nLieu: 1350 René-Lévesque Blvd W\, suite 200\, Montreal\, Quebec H3G 2W2 \nCout: Gratuit pour nos membres
URL:https://emergingmanagers.ca/fr/calendar-event/les-enjeux-de-la-cybersecurite/
LOCATION:CGI\, 1350 René-Lévesque\, Montreal\, QC\, H3G2W22\, Canada
ATTACH;FMTTYPE=image/png:https://emergingmanagers.ca/wp-content/uploads/2023/05/Visuel-FR-reportei.png
BEGIN:VALARM
TRIGGER:-PT15M
ACTION:DISPLAY
END:VALARM
END:VEVENT
BEGIN:VEVENT
DTSTART;TZID=America/Toronto:20230920T080000
DTEND;TZID=America/Toronto:20230920T180000
DTSTAMP:20260421T055604
CREATED:20230816T154813Z
LAST-MODIFIED:20230919T151954Z
UID:26749-1695196800-1695232800@emergingmanagers.ca
SUMMARY:Le Forum sur la réglementation et la conformité de l’AGPC à Montréal
DESCRIPTION:Le Forum sur la réglementation et la conformité de l’AGPC à Montréal couvrira les nouveaux développements ainsi que les enjeux critiques en matière de conformité et offrira des points de vue sur la façon de maintenir un programme de conformité efficace. \nL’International Sustainability Standards Board (ISSB) a publié ses normes d’information financière relatives au développement durable (IFRS S1) et au climat (IFRS S2). L’OICV et les Autorités canadiennes en valeurs mobilières ont exprimé leur appui à l’égard de ces normes qui sont susceptibles de jouer un rôle important dans la divulgation à l’avenir. Joignez-vous à Granville Martin\, directeur de la sensibilisation réglementaire\, IFRS Foundation/ISSB et à Sonia Struthers\, associée\, McCarthy Tétrault LLP\, pour discuter de ce que ces normes signifieront pour votre entreprise. \nCout:  Membres du PMAC  & Membres du CGE: $375+GST
URL:https://emergingmanagers.ca/fr/calendar-event/the-montreal-regulatory-compliance-forum/
LOCATION:Club St-James\, 1145 Avenue Union\, Montreal\, Quebec\, H3B 3C2\, Canada
ATTACH;FMTTYPE=image/jpeg:https://emergingmanagers.ca/wp-content/uploads/2023/08/PMAC-forum-fr.jpg
BEGIN:VALARM
TRIGGER:-PT15M
ACTION:DISPLAY
END:VALARM
END:VEVENT
BEGIN:VEVENT
DTSTART;TZID=America/Toronto:20230926T153000
DTEND;TZID=America/Toronto:20230926T180000
DTSTAMP:20260421T055604
CREATED:20230919T204603Z
LAST-MODIFIED:20230919T205550Z
UID:27008-1695742200-1695751200@emergingmanagers.ca
SUMMARY:AIMA alternative insights & social in Vancouver
DESCRIPTION:Événement où nous discuterons de plusieurs sujets qui ont un impact sur l’industrie de l’investissement alternatif au Canada et sur la construction de portefeuilles en général. \n\nPoints forts de la recherche sur l’alignement des intérêts\nAvantages des gestionnaires émergents dans la construction de portefeuilles\nPerspectives des investisseurs sur l’allocation d’actifs dans le contexte du marché actuel\nL’impact du financement avec les normes ESG\nComment les canaux de distribution de patrimoine peuvent apprendre des investisseurs institutionnels\nPrincipaux points de la réglementation canadienne\n\nRejoignez-nous pour un réseautage en soirée à l’issue de la conférence ! \nÉvénement en anglais. \nINSCRIPTION
URL:https://emergingmanagers.ca/fr/calendar-event/aima-alternative-insights-social-in-vancouver/
LOCATION:Borden Ladner Gervais LLP\, 1200 Waterfront Centre\,\, Vancouver\, BC\, Canada
ATTACH;FMTTYPE=image/jpeg:https://emergingmanagers.ca/wp-content/uploads/2023/09/AIMA-alternative-insights-social-Vancouver-1280x850-2.jpg
BEGIN:VALARM
TRIGGER:-PT15M
ACTION:DISPLAY
END:VALARM
END:VEVENT
BEGIN:VEVENT
DTSTART;TZID=America/Toronto:20230927T153000
DTEND;TZID=America/Toronto:20230927T180000
DTSTAMP:20260421T055604
CREATED:20230918T201031Z
LAST-MODIFIED:20230919T205914Z
UID:26972-1695828600-1695837600@emergingmanagers.ca
SUMMARY:AIMA alternative insights & social à Calgary
DESCRIPTION:Événement où nous discuterons de plusieurs sujets qui ont un impact sur l’industrie de l’investissement alternatif au Canada et sur la construction de portefeuilles en général. \nPoints forts de la recherche sur l’alignement des intérêts\nAvantages des gestionnaires émergents dans la construction de portefeuilles\nPerspectives des investisseurs sur l’allocation d’actifs dans le contexte du marché actuel\nL’impact du financement avec les normes ESG\nComment les canaux de distribution de patrimoine peuvent apprendre des investisseurs institutionnels\nPrincipaux points de la réglementation canadienne \nRejoignez-nous pour un réseautage en soirée à l’issue de la conférence ! \nÉvénement en anglais. \nINSCRIPTION
URL:https://emergingmanagers.ca/fr/calendar-event/aima-alternative-insights-social-a-calgary/
LOCATION:Centennial Place\, East Tower\, 1900\, 520 – 3rd Ave. SW\, Calgary\, Alberta\, T2P 0R3\, Canada
ATTACH;FMTTYPE=image/jpeg:https://emergingmanagers.ca/wp-content/uploads/2023/09/AIMA-SOCIAL-CALGARY-1280X850-1.jpg
BEGIN:VALARM
TRIGGER:-PT15M
ACTION:DISPLAY
END:VALARM
END:VEVENT
END:VCALENDAR