BEGIN:VCALENDAR
VERSION:2.0
PRODID:-//CGE-EMB - ECPv5.14.0.1//NONSGML v1.0//EN
CALSCALE:GREGORIAN
METHOD:PUBLISH
X-ORIGINAL-URL:https://emergingmanagers.ca/fr/
X-WR-CALDESC:Events for CGE-EMB
REFRESH-INTERVAL;VALUE=DURATION:PT1H
X-Robots-Tag:noindex
X-PUBLISHED-TTL:PT1H
BEGIN:VTIMEZONE
TZID:America/Toronto
BEGIN:DAYLIGHT
TZOFFSETFROM:-0500
TZOFFSETTO:-0400
TZNAME:EDT
DTSTART:20230312T070000
END:DAYLIGHT
BEGIN:STANDARD
TZOFFSETFROM:-0400
TZOFFSETTO:-0500
TZNAME:EST
DTSTART:20231105T060000
END:STANDARD
END:VTIMEZONE
BEGIN:VEVENT
DTSTART;TZID=America/Toronto:20230606T080000
DTEND;TZID=America/Toronto:20230606T180000
DTSTAMP:20260421T105648
CREATED:20230531T142643Z
LAST-MODIFIED:20230531T142645Z
UID:25311-1686038400-1686074400@emergingmanagers.ca
SUMMARY:PMAC 2023 Toronto Regulatory & Compliance Forum
DESCRIPTION:Passez une journée à apprendre et à interagir avec vos pairs\, vos collègues et les leaders de l’industrie. Le Forum de Toronto sur la réglementation et la conformité couvrira les règlements de la CSA\, les sujets d’actualité en matière de conformité et les sujets de planification stratégique.  Événement en anglais
URL:https://emergingmanagers.ca/fr/calendar-event/pmac-2023-toronto-regulatory-compliance-forum/
LOCATION:Quebec
ATTACH;FMTTYPE=image/png:https://emergingmanagers.ca/wp-content/uploads/2023/05/2023-Toronto-Regulatory-Compliance-Forum-Agenda-crop-1.png
BEGIN:VALARM
TRIGGER:-PT15M
ACTION:DISPLAY
END:VALARM
END:VEVENT
BEGIN:VEVENT
DTSTART;TZID=America/Toronto:20230621T084500
DTEND;TZID=America/Toronto:20230621T140000
DTSTAMP:20260421T105648
CREATED:20230323T182240Z
LAST-MODIFIED:20230324T204645Z
UID:24826-1687337100-1687356000@emergingmanagers.ca
SUMMARY:Forum sur les investissements alternatifs de Montréal
DESCRIPTION:Avec le retour de la volatilité sur les marchés\, les investissements alternatifs ont consolidé leur place importante dans la constitution des portefeuilles institutionnels et de détail. Ce premier Forum sur les investissements alternatifs d’AIMA à Montréal vise à discuter des tendances actuelles ayant un impact sur les fonds spéculatifs\, les fonds alternatifs liquides\, le crédit privé\, le capital-investissement et plus encore. \n\n\n\nAGENDA (événement en anglais) \n\n\n\n8:45am Registration9:00am Opening Remarks9:05am Macroeconomic Case for Alternative Investments9:30am Hedge funds: Portfolio Fit for All Seasons10:10am Designing External Portfolio Management Excellence10:35am Coffee/Networking11:00am Private Markets and the Big Valuation Question11:40am Key Due Diligence Considerations in Alternatives12:05pm Lunch prep/Networking12:30pm CIO Perspective: Alternative Approach to Fiduciary Leadership1:30pm Closing Remarks & Networking2:00pm Close
URL:https://emergingmanagers.ca/fr/calendar-event/forum-sur-les-investissements-alternatifs-de-montreal/
LOCATION:Club St-James\, 1145 Avenue Union\, Montreal\, Quebec\, H3B 3C2\, Canada
BEGIN:VALARM
TRIGGER:-PT15M
ACTION:DISPLAY
END:VALARM
END:VEVENT
END:VCALENDAR