BEGIN:VCALENDAR
VERSION:2.0
PRODID:-//CGE-EMB - ECPv5.14.0.1//NONSGML v1.0//EN
CALSCALE:GREGORIAN
METHOD:PUBLISH
X-ORIGINAL-URL:https://emergingmanagers.ca/fr/
X-WR-CALDESC:Events for CGE-EMB
REFRESH-INTERVAL;VALUE=DURATION:PT1H
X-Robots-Tag:noindex
X-PUBLISHED-TTL:PT1H
BEGIN:VTIMEZONE
TZID:America/Toronto
BEGIN:DAYLIGHT
TZOFFSETFROM:-0500
TZOFFSETTO:-0400
TZNAME:EDT
DTSTART:20230312T070000
END:DAYLIGHT
BEGIN:STANDARD
TZOFFSETFROM:-0400
TZOFFSETTO:-0500
TZNAME:EST
DTSTART:20231105T060000
END:STANDARD
END:VTIMEZONE
BEGIN:VEVENT
DTSTART;TZID=America/Toronto:20230330T130000
DTEND;TZID=America/Toronto:20230330T143000
DTSTAMP:20260421T153706
CREATED:20230323T185855Z
LAST-MODIFIED:20230323T190009Z
UID:24846-1680181200-1680186600@emergingmanagers.ca
SUMMARY:PMAC Webinaire: La cybersécurité en 2023
DESCRIPTION:(événement en anglais) Les menaces de cybersécurité représentent un risque croissant et en constante évolution pour les sociétés de gestion d’actifs. La compromission des courriels d’entreprise\, la fraude au transfert de fonds et les ransomwares sont des phénomènes de plus en plus fréquents qui touchent les entreprises\, petites et grandes. Un panel d’experts vous présentera les tactiques de cyberdéfense actuellement recommandées\, les implications en matière d’assurance\, les facteurs réglementaires et des études de cas sur la gestion des atteintes à la vie privée. \n\n\n\nCybermenaces courantesTactiques de défenseÉtudes de cas sur la gestion des cyberattaquesAssurance et considérations réglementairesQUESTIONS ET RÉPONSESNos conférenciers : \n\n\n\nErin Flett\, Vice-président Cyber & Responsabilité professionnelle | Chubb CanadaIra Nishisato\, Associé | Borden Ladner Gervais LLPJonathan Weekes\, Vice-président senior\, Risques complexes | Hub International
URL:https://emergingmanagers.ca/fr/calendar-event/pmac-webinaire-la-cybersecurite-en-2023/
LOCATION:Quebec
ATTACH;FMTTYPE=image/jpeg:https://emergingmanagers.ca/wp-content/uploads/2023/03/What-is-Cyber-Security-1.jpg
BEGIN:VALARM
TRIGGER:-PT15M
ACTION:DISPLAY
END:VALARM
END:VEVENT
END:VCALENDAR