BEGIN:VCALENDAR
VERSION:2.0
PRODID:-//CGE-EMB - ECPv5.14.0.1//NONSGML v1.0//EN
CALSCALE:GREGORIAN
METHOD:PUBLISH
X-ORIGINAL-URL:https://emergingmanagers.ca
X-WR-CALDESC:Events for CGE-EMB
REFRESH-INTERVAL;VALUE=DURATION:PT1H
X-Robots-Tag:noindex
X-PUBLISHED-TTL:PT1H
BEGIN:VTIMEZONE
TZID:America/Toronto
BEGIN:DAYLIGHT
TZOFFSETFROM:-0500
TZOFFSETTO:-0400
TZNAME:EDT
DTSTART:20250309T070000
END:DAYLIGHT
BEGIN:STANDARD
TZOFFSETFROM:-0400
TZOFFSETTO:-0500
TZNAME:EST
DTSTART:20251102T060000
END:STANDARD
END:VTIMEZONE
BEGIN:VEVENT
DTSTART;TZID=America/Toronto:20251127T160000
DTEND;TZID=America/Toronto:20251127T190000
DTSTAMP:20260419T155954
CREATED:20250908T141851Z
LAST-MODIFIED:20250908T143839Z
UID:30780-1764259200-1764270000@emergingmanagers.ca
SUMMARY:AIMA & EMB 2025 Toronto Holidays Cocktail
DESCRIPTION:EMB & AIMA Canada is pleased to host our annual Holiday Social and Volunteer Awards as we come together to celebrate end of the year and recognize the collective milestones achieved across our industry. Year-end will be here before we know it – mark your calendars! \nWe’re especially excited to once again welcome young professionals from our member firms for a dedicated mixer ahead of the main social\, an opportunity to connect\, network\, and kick off the evening with fellow emerging leaders. \nThis celebration is a small token of appreciation for the incredible support\, engagement\, and contributions of our members this year. \nNominations are open for our annual volunteer recognition awards. More details on the process and past recipients can be found here. Please email Claire Van Wyk-Allan to submit your nominations. \nAgenda \n\n4.00 pm – Young Professional Mixer\n5.00 pm – Holiday social begins for all members\n6.00 pm – Volunteer award presentation (10 minutes)\n7:00 pm – Close\n\nREGISTER HERE
URL:https://emergingmanagers.ca/calendar-event/aima-emb-2025-toronto-holidays-cocktail/
LOCATION:BMO Nesbitt Burns\, BMO Nesbitt Burns Inc. 100 King St. West\, 68th Floor\, Strathcona Room\, Toronto\, Ontario\, M5X 1A9\, Canada
ATTACH;FMTTYPE=image/png:https://emergingmanagers.ca/wp-content/uploads/2025/09/FINAL-Toronto-EN.png
BEGIN:VALARM
TRIGGER:-PT15M
ACTION:DISPLAY
END:VALARM
END:VEVENT
END:VCALENDAR