BEGIN:VCALENDAR
VERSION:2.0
PRODID:-//CGE-EMB - ECPv5.14.0.1//NONSGML v1.0//EN
CALSCALE:GREGORIAN
METHOD:PUBLISH
X-ORIGINAL-URL:https://emergingmanagers.ca
X-WR-CALDESC:Events for CGE-EMB
REFRESH-INTERVAL;VALUE=DURATION:PT1H
X-Robots-Tag:noindex
X-PUBLISHED-TTL:PT1H
BEGIN:VTIMEZONE
TZID:America/Toronto
BEGIN:DAYLIGHT
TZOFFSETFROM:-0500
TZOFFSETTO:-0400
TZNAME:EDT
DTSTART:20200308T070000
END:DAYLIGHT
BEGIN:STANDARD
TZOFFSETFROM:-0400
TZOFFSETTO:-0500
TZNAME:EST
DTSTART:20201101T060000
END:STANDARD
END:VTIMEZONE
BEGIN:VEVENT
DTSTART;TZID=America/Toronto:20200214T080000
DTEND;TZID=America/Toronto:20200214T170000
DTSTAMP:20260419T170050
CREATED:20200115T142106Z
LAST-MODIFIED:20220117T215109Z
UID:13634-1581667200-1581699600@emergingmanagers.ca
SUMMARY:13th Annual Emerging Manager & MWBE Conference
DESCRIPTION:The Emerging Manager & MWBE Conference offers investment managers an opportunity to meet with staff from the New York State Common Retirement Fund (CRF) and program partners to learn:\n\n 	How the Common Retirement Fund selects investment partners.\n 	Areas the Fund targets to generate attractive returns.\n 	How we construct a well-balanced portfolio.\n\nWho Should Attend?\n\n 	Emerging Managers: Senior Partners\, CEOs and Managing Directors of emerging investment management firms typically investing their first through fourth funds.\n 	Minority and Women-Owned (MWBE) Firms: Owners and senior members of minority-owned and women-owned asset management firms and brokers/dealers.\n 	Allocators with targeted Emerging and/or MWBE Programs: Senior management of institutional investors focused on investing with nimble and diverse investment managers.\n 	Private Equity Firms Targeting MWBE: Investment teams at private equity firms focused on targeted markets serving minorities and women.\n\nConference Information\n\n 	Register\n 	Consultants and allocators\n 	Directions and transportation
URL:https://emergingmanagers.ca/calendar-event/13th-annual-emerging-manager-mwbe-conference/
LOCATION:Quebec
BEGIN:VALARM
TRIGGER:-PT15M
ACTION:DISPLAY
END:VALARM
END:VEVENT
END:VCALENDAR